Workbook

Sheet Kuu graafik
A1: Töögraafiku põhi - kuu graafik
A2: Aasta | B2: 2026
A3: Kuu (1-12) | B3: 9
A5: Päev | B5: 1 | C5: 2 | D5: 3 | E5: 4 | F5: 5 | G5: 6 | H5: 7 | I5: 8 | J5: 9 | K5: 10 | L5: 11 | M5: 12 | N5: 13 | O5: 14 | P5: 15 | Q5: 16 | R5: 17 | S5: 18 | T5: 19 | U5: 20 | V5: 21 | W5: 22 | X5: 23 | Y5: 24 | Z5: 25 | AA5: 26 | AB5: 27 | AC5: 28 | AD5: 29 | AE5: 30 | AF5: 31 | AG5: Tunnid | AH5: Norm | AI5: Vahe
A6: Nädalapäev | B6: =IF(B$5>DAY(DATE($B$2,$B$3+1,0)),"",CHOOSE(WEEKDAY(DATE($B$2,$B$3,B$5),2),"E","T","K","N","R","L","P")) | C6: =IF(C$5>DAY(DATE($B$2,$B$3+1,0)),"",CHOOSE(WEEKDAY(DATE($B$2,$B$3,C$5),2),"E","T","K","N","R","L","P")) | D6: =IF(D$5>DAY(DATE($B$2,$B$3+1,0)),"",CHOOSE(WEEKDAY(DATE($B$2,$B$3,D$5),2),"E","T","K","N","R","L","P")) | E6: =IF(E$5>DAY(DATE($B$2,$B$3+1,0)),"",CHOOSE(WEEKDAY(DATE($B$2,$B$3,E$5),2),"E","T","K","N","R","L","P")) | F6: =IF(F$5>DAY(DATE($B$2,$B$3+1,0)),"",CHOOSE(WEEKDAY(DATE($B$2,$B$3,F$5),2),"E","T","K","N","R","L","P")) | G6: =IF(G$5>DAY(DATE($B$2,$B$3+1,0)),"",CHOOSE(WEEKDAY(DATE($B$2,$B$3,G$5),2),"E","T","K","N","R","L","P")) | H6: =IF(H$5>DAY(DATE($B$2,$B$3+1,0)),"",CHOOSE(WEEKDAY(DATE($B$2,$B$3,H$5),2),"E","T","K","N","R","L","P")) | I6: =IF(I$5>DAY(DATE($B$2,$B$3+1,0)),"",CHOOSE(WEEKDAY(DATE($B$2,$B$3,I$5),2),"E","T","K","N","R","L","P")) | ... AF6: =IF(AF$5>DAY(DATE($B$2,$B$3+1,0)),"",CHOOSE(WEEKDAY(DATE($B$2,$B$3,AF$5),2),"E","T","K","N","R","L","P"))
A7: Riigipüha (x)
AG8: =SUM(B8:AF8)+SUMPRODUCT(SUMIF($B$24:$B$27,B8:AF8,$I$24:$I$27)) | AI8: =IF(AH8="","",AG8-AH8)
AG9: =SUM(B9:AF9)+SUMPRODUCT(SUMIF($B$24:$B$27,B9:AF9,$I$24:$I$27)) | AI9: =IF(AH9="","",AG9-AH9)
AG10: =SUM(B10:AF10)+SUMPRODUCT(SUMIF($B$24:$B$27,B10:AF10,$I$24:$I$27)) | AI10: =IF(AH10="","",AG10-AH10)
AG11: =SUM(B11:AF11)+SUMPRODUCT(SUMIF($B$24:$B$27,B11:AF11,$I$24:$I$27)) | AI11: =IF(AH11="","",AG11-AH11)
AG12: =SUM(B12:AF12)+SUMPRODUCT(SUMIF($B$24:$B$27,B12:AF12,$I$24:$I$27)) | AI12: =IF(AH12="","",AG12-AH12)
AG13: =SUM(B13:AF13)+SUMPRODUCT(SUMIF($B$24:$B$27,B13:AF13,$I$24:$I$27)) | AI13: =IF(AH13="","",AG13-AH13)
AG14: =SUM(B14:AF14)+SUMPRODUCT(SUMIF($B$24:$B$27,B14:AF14,$I$24:$I$27)) | AI14: =IF(AH14="","",AG14-AH14)
AG15: =SUM(B15:AF15)+SUMPRODUCT(SUMIF($B$24:$B$27,B15:AF15,$I$24:$I$27)) | AI15: =IF(AH15="","",AG15-AH15)
AG16: =SUM(B16:AF16)+SUMPRODUCT(SUMIF($B$24:$B$27,B16:AF16,$I$24:$I$27)) | AI16: =IF(AH16="","",AG16-AH16)
AG17: =SUM(B17:AF17)+SUMPRODUCT(SUMIF($B$24:$B$27,B17:AF17,$I$24:$I$27)) | AI17: =IF(AH17="","",AG17-AH17)
AG18: =SUM(B18:AF18)+SUMPRODUCT(SUMIF($B$24:$B$27,B18:AF18,$I$24:$I$27)) | AI18: =IF(AH18="","",AG18-AH18)
AG19: =SUM(B19:AF19)+SUMPRODUCT(SUMIF($B$24:$B$27,B19:AF19,$I$24:$I$27)) | AI19: =IF(AH19="","",AG19-AH19)
A20: Tööl (inimesi) | B20: =COUNT(B8:B19)+SUMPRODUCT(($B$24:$B$27<>"")*COUNTIF(B8:B19,$B$24:$B$27)) | C20: =COUNT(C8:C19)+SUMPRODUCT(($B$24:$B$27<>"")*COUNTIF(C8:C19,$B$24:$B$27)) | D20: =COUNT(D8:D19)+SUMPRODUCT(($B$24:$B$27<>"")*COUNTIF(D8:D19,$B$24:$B$27)) | E20: =COUNT(E8:E19)+SUMPRODUCT(($B$24:$B$27<>"")*COUNTIF(E8:E19,$B$24:$B$27)) | F20: =COUNT(F8:F19)+SUMPRODUCT(($B$24:$B$27<>"")*COUNTIF(F8:F19,$B$24:$B$27)) | G20: =COUNT(G8:G19)+SUMPRODUCT(($B$24:$B$27<>"")*COUNTIF(G8:G19,$B$24:$B$27)) | H20: =COUNT(H8:H19)+SUMPRODUCT(($B$24:$B$27<>"")*COUNTIF(H8:H19,$B$24:$B$27)) | I20: =COUNT(I8:I19)+SUMPRODUCT(($B$24:$B$27<>"")*COUNTIF(I8:I19,$B$24:$B$27)) | ... AF20: =COUNT(AF8:AF19)+SUMPRODUCT(($B$24:$B$27<>"")*COUNTIF(AF8:AF19,$B$24:$B$27)) | AG20: =SUM(AG8:AG19) | AH20: =SUM(AH8:AH19) | AI20: =SUM(AI8:AI19)
A22: Vahetuste koodid
B23: Kood | D23: Kellaaeg | I23: Tunnid
B24: H | D24: 8:00-16:00 | I24: 8
B25: Õ | D25: 14:00-22:00 | I25: 8
B26: Ö | D26: 22:00-8:00 | I26: 10
A27: oma kood siia
A29: Selgitused
A30: • Lahtrisse kirjuta kas vahetuse kood (H, Õ, Ö) või tundide arv. Mõlemad lähevad tundide summasse.
A31: • Vabad päevad: P = puhkepäev, PU = puhkus, HL = haigusleht. HL on haiguslehe kood, sest H tähendab hommikust vahetust.
A32: • Tühi lahter tähendab, et päev on veel planeerimata.
A33: • Üle kesköö kestev vahetus kirjutatakse selle päeva lahtrisse, mil vahetus algab.
A34: • Riigipüha real tähista püha tähega x. Kogu selle päeva veerg muutub punakaks. Aasta ja kuu vali lahtritest B2 ja B3, ülejäänu uueneb ise.

Sheet Nädal
A1: Töögraafiku põhi - nädal
A2: Nädala esmaspäev | B2: =DATE(2026,9,7)
A5: Kuupäev | B5: =$B$2+0 | C5: =$B$2+1 | D5: =$B$2+2 | E5: =$B$2+3 | F5: =$B$2+4 | G5: =$B$2+5 | H5: =$B$2+6 | I5: Tunnid
A6: Nädalapäev | B6: E | C6: T | D6: K | E6: N | F6: R | G6: L | H6: P
A7: Riigipüha (x)
I8: =SUM(B8:H8)+SUMPRODUCT(SUMIF('Kuu graafik'!$B$24:$B$27,B8:H8,'Kuu graafik'!$I$24:$I$27))
I9: =SUM(B9:H9)+SUMPRODUCT(SUMIF('Kuu graafik'!$B$24:$B$27,B9:H9,'Kuu graafik'!$I$24:$I$27))
I10: =SUM(B10:H10)+SUMPRODUCT(SUMIF('Kuu graafik'!$B$24:$B$27,B10:H10,'Kuu graafik'!$I$24:$I$27))
I11: =SUM(B11:H11)+SUMPRODUCT(SUMIF('Kuu graafik'!$B$24:$B$27,B11:H11,'Kuu graafik'!$I$24:$I$27))
I12: =SUM(B12:H12)+SUMPRODUCT(SUMIF('Kuu graafik'!$B$24:$B$27,B12:H12,'Kuu graafik'!$I$24:$I$27))
I13: =SUM(B13:H13)+SUMPRODUCT(SUMIF('Kuu graafik'!$B$24:$B$27,B13:H13,'Kuu graafik'!$I$24:$I$27))
I14: =SUM(B14:H14)+SUMPRODUCT(SUMIF('Kuu graafik'!$B$24:$B$27,B14:H14,'Kuu graafik'!$I$24:$I$27))
I15: =SUM(B15:H15)+SUMPRODUCT(SUMIF('Kuu graafik'!$B$24:$B$27,B15:H15,'Kuu graafik'!$I$24:$I$27))
I16: =SUM(B16:H16)+SUMPRODUCT(SUMIF('Kuu graafik'!$B$24:$B$27,B16:H16,'Kuu graafik'!$I$24:$I$27))
I17: =SUM(B17:H17)+SUMPRODUCT(SUMIF('Kuu graafik'!$B$24:$B$27,B17:H17,'Kuu graafik'!$I$24:$I$27))
I18: =SUM(B18:H18)+SUMPRODUCT(SUMIF('Kuu graafik'!$B$24:$B$27,B18:H18,'Kuu graafik'!$I$24:$I$27))
I19: =SUM(B19:H19)+SUMPRODUCT(SUMIF('Kuu graafik'!$B$24:$B$27,B19:H19,'Kuu graafik'!$I$24:$I$27))
A20: Tööl (inimesi) | B20: =COUNT(B8:B19)+SUMPRODUCT(('Kuu graafik'!$B$24:$B$27<>"")*COUNTIF(B8:B19,'Kuu graafik'!$B$24:$B$27)) | C20: =COUNT(C8:C19)+SUMPRODUCT(('Kuu graafik'!$B$24:$B$27<>"")*COUNTIF(C8:C19,'Kuu graafik'!$B$24:$B$27)) | D20: =COUNT(D8:D19)+SUMPRODUCT(('Kuu graafik'!$B$24:$B$27<>"")*COUNTIF(D8:D19,'Kuu graafik'!$B$24:$B$27)) | E20: =COUNT(E8:E19)+SUMPRODUCT(('Kuu graafik'!$B$24:$B$27<>"")*COUNTIF(E8:E19,'Kuu graafik'!$B$24:$B$27)) | F20: =COUNT(F8:F19)+SUMPRODUCT(('Kuu graafik'!$B$24:$B$27<>"")*COUNTIF(F8:F19,'Kuu graafik'!$B$24:$B$27)) | G20: =COUNT(G8:G19)+SUMPRODUCT(('Kuu graafik'!$B$24:$B$27<>"")*COUNTIF(G8:G19,'Kuu graafik'!$B$24:$B$27)) | H20: =COUNT(H8:H19)+SUMPRODUCT(('Kuu graafik'!$B$24:$B$27<>"")*COUNTIF(H8:H19,'Kuu graafik'!$B$24:$B$27)) | I20: =SUM(I8:I19)
A22: Koodid ja tundide arv võta lehelt „Kuu graafik“ (tabel „Vahetuste koodid“).
